BEGIN:VCALENDAR
VERSION:2.0
PRODID:-//Mandjes Consult - ECPv6.15.20//NONSGML v1.0//EN
CALSCALE:GREGORIAN
METHOD:PUBLISH
X-WR-CALNAME:Mandjes Consult
X-ORIGINAL-URL:https://mandjes.de
X-WR-CALDESC:Veranstaltungen für Mandjes Consult
REFRESH-INTERVAL;VALUE=DURATION:PT1H
X-Robots-Tag:noindex
X-PUBLISHED-TTL:PT1H
BEGIN:VTIMEZONE
TZID:Europe/Berlin
BEGIN:DAYLIGHT
TZOFFSETFROM:+0100
TZOFFSETTO:+0200
TZNAME:CEST
DTSTART:20250330T010000
END:DAYLIGHT
BEGIN:STANDARD
TZOFFSETFROM:+0200
TZOFFSETTO:+0100
TZNAME:CET
DTSTART:20251026T010000
END:STANDARD
BEGIN:DAYLIGHT
TZOFFSETFROM:+0100
TZOFFSETTO:+0200
TZNAME:CEST
DTSTART:20260329T010000
END:DAYLIGHT
BEGIN:STANDARD
TZOFFSETFROM:+0200
TZOFFSETTO:+0100
TZNAME:CET
DTSTART:20261025T010000
END:STANDARD
BEGIN:DAYLIGHT
TZOFFSETFROM:+0100
TZOFFSETTO:+0200
TZNAME:CEST
DTSTART:20270328T010000
END:DAYLIGHT
BEGIN:STANDARD
TZOFFSETFROM:+0200
TZOFFSETTO:+0100
TZNAME:CET
DTSTART:20271031T010000
END:STANDARD
END:VTIMEZONE
BEGIN:VEVENT
DTSTART;TZID=Europe/Berlin:20260424T090000
DTEND;TZID=Europe/Berlin:20260424T153000
DTSTAMP:20260424T092027
CREATED:20251031T203131Z
LAST-MODIFIED:20251031T203131Z
UID:6122-1777021200-1777044600@mandjes.de
SUMMARY:Präsenzschulung Sicherheitskontrollen bei Fracht & Post – 11.2.3.9
DESCRIPTION:5 Std. (5 x 45 Min.) \n11.2.3.9  gem. DVO (EU) 2015/1998 (ohne Flughafenausweis) \nSchulung von Personen\, mit unbeaufsichtigtem Zugang zu identifizierbarer Luftfracht/ -post und/ oder Personen die Sicherheitskontrollen für Luftfracht/ -post durchführen.
URL:https://mandjes.de/event/praesenzschulung-sicherheitskontrollen-bei-fracht-post-11-2-3-9-5-4-2-4/
LOCATION:Bochum\, Bergmannstrasse 32\, Bochum\, NRW\, 44809
CATEGORIES:Schulungszentrum Bochum
ORGANIZER;CN="Mandjes Consulting":MAILTO:info@mandjes.de
END:VEVENT
END:VCALENDAR