BEGIN:VCALENDAR
VERSION:2.0
PRODID:-//Mandjes Consult - ECPv6.15.20//NONSGML v1.0//EN
CALSCALE:GREGORIAN
METHOD:PUBLISH
X-WR-CALNAME:Mandjes Consult
X-ORIGINAL-URL:https://mandjes.de
X-WR-CALDESC:Veranstaltungen für Mandjes Consult
REFRESH-INTERVAL;VALUE=DURATION:PT1H
X-Robots-Tag:noindex
X-PUBLISHED-TTL:PT1H
BEGIN:VTIMEZONE
TZID:Europe/Berlin
BEGIN:DAYLIGHT
TZOFFSETFROM:+0100
TZOFFSETTO:+0200
TZNAME:CEST
DTSTART:20250330T010000
END:DAYLIGHT
BEGIN:STANDARD
TZOFFSETFROM:+0200
TZOFFSETTO:+0100
TZNAME:CET
DTSTART:20251026T010000
END:STANDARD
BEGIN:DAYLIGHT
TZOFFSETFROM:+0100
TZOFFSETTO:+0200
TZNAME:CEST
DTSTART:20260329T010000
END:DAYLIGHT
BEGIN:STANDARD
TZOFFSETFROM:+0200
TZOFFSETTO:+0100
TZNAME:CET
DTSTART:20261025T010000
END:STANDARD
BEGIN:DAYLIGHT
TZOFFSETFROM:+0100
TZOFFSETTO:+0200
TZNAME:CEST
DTSTART:20270328T010000
END:DAYLIGHT
BEGIN:STANDARD
TZOFFSETFROM:+0200
TZOFFSETTO:+0100
TZNAME:CET
DTSTART:20271031T010000
END:STANDARD
END:VTIMEZONE
BEGIN:VEVENT
DTSTART;TZID=Europe/Berlin:20260430T090000
DTEND;TZID=Europe/Berlin:20260430T163000
DTSTAMP:20260423T053955
CREATED:20251031T204303Z
LAST-MODIFIED:20251031T204345Z
UID:6174-1777539600-1777566600@mandjes.de
SUMMARY:Präsenz - Fortbildung für Sicherheitsbeauftragte
DESCRIPTION:10 Std. (10 x 45 Min.) \nFortbildung für Sicherheitsbeauftragtegem. Ziffer 11.4.3 des Anhangs der Durchführungsverordnung (EU) 2015/1998 sowie den darauf beruhenden ergänzenden inhaltlichen und zeitlichen nationalen Vorgaben – entsprechend der Festlegungen gemäß Anlage 6 der LuftSiSchulV
URL:https://mandjes.de/event/praesenz-fortbildung-fuer-sicherheitsbeauftragte-3-2/
LOCATION:Bochum\, Bergmannstrasse 32\, Bochum\, NRW\, 44809
CATEGORIES:Schulungszentrum Bochum
ORGANIZER;CN="Mandjes Consulting":MAILTO:info@mandjes.de
END:VEVENT
END:VCALENDAR